BEGIN:VCALENDAR
VERSION:2.0
PRODID:-//ZOLL VINEYARDS - ECPv6.0.3//NONSGML v1.0//EN
CALSCALE:GREGORIAN
METHOD:PUBLISH
X-WR-CALNAME:ZOLL VINEYARDS
X-ORIGINAL-URL:http://www.zollvineyards.com
X-WR-CALDESC:Events for ZOLL VINEYARDS
REFRESH-INTERVAL;VALUE=DURATION:PT1H
X-Robots-Tag:noindex
X-PUBLISHED-TTL:PT1H
BEGIN:VTIMEZONE
TZID:America/New_York
BEGIN:DAYLIGHT
TZOFFSETFROM:-0500
TZOFFSETTO:-0400
TZNAME:EDT
DTSTART:20260308T070000
END:DAYLIGHT
BEGIN:STANDARD
TZOFFSETFROM:-0400
TZOFFSETTO:-0500
TZNAME:EST
DTSTART:20261101T060000
END:STANDARD
END:VTIMEZONE
BEGIN:VEVENT
DTSTART;TZID=America/New_York:20260320T120000
DTEND;TZID=America/New_York:20260320T180000
DTSTAMP:20260419T084429
CREATED:20260128T183221Z
LAST-MODIFIED:20260204T200744Z
UID:4899-1774008000-1774029600@www.zollvineyards.com
SUMMARY:Flight Friday
DESCRIPTION:Kick off your weekends with Flight Fridays at Zoll Vineyard! Every Friday in March\, enjoy our carefully crafted wine flights and soak in the beauty\, with friends or loved ones. \nSpecial Offer:Order two or more wine flights and receive 10% off your total flight purchase — perfect for sharing with friends or exploring more of what Zoll has to offer. \nWhether you’re discovering new favorites or revisiting classics\, Flight Fridays are the perfect way to celebrate March in wine country.
URL:http://www.zollvineyards.com/events/flight-friday-21/
LOCATION:Zoll Vineyards\, 10309 Vineyard Road\, Dutton\, VA\, 23050\, United States
ORGANIZER;CN="Zoll%20Vineyards":MAILTO:Frank@Zollvineyards.com
END:VEVENT
BEGIN:VEVENT
DTSTART;TZID=America/New_York:20260325T180000
DTEND;TZID=America/New_York:20260325T200000
DTSTAMP:20260419T084429
CREATED:20260128T225610Z
LAST-MODIFIED:20260218T232757Z
UID:4934-1774461600-1774468800@www.zollvineyards.com
SUMMARY:Spring Sangria Slushy Demo
DESCRIPTION:Spring just got a little slushier \nJoin us at Zoll for a Spring Sangria Slushy Demo that’s fruity\, frosty\, and basically sunshine in a cup. We’re blending bright seasonal flavors into the ultimate warm-weather sip — refreshing\, colorful\, and dangerously easy to love.\nCome taste\, learn\, and get inspired for your next patio moment.\nPlease come early to enjoy our food and beverage menu or tastings prior to class.\nMinimum is required to host demo.\n21+ to join the demo\nTickets are non-refundable unless event is cancelled. Tickets are transferable for the day of the event if we are notified in advance. 
URL:http://www.zollvineyards.com/events/spring-sangria-slushy-demo/
LOCATION:Zoll Vineyards\, 10309 Vineyard Road\, Dutton\, VA\, 23050\, United States
ORGANIZER;CN="Zoll%20Vineyards":MAILTO:Frank@Zollvineyards.com
END:VEVENT
END:VCALENDAR